{"text_format":"1","workbook":"xlsx","n_sheets":4,"sheets":["Values","Questions","Answers","Working"],"not_rendered":{"charts":0,"images":0,"macros":1,"external_links":0,"defined_names":0,"comments":0,"pivot_tables":0},"unopened":[],"bounds":{"document_bytes":16777216,"sheet_cells":100000,"rows_first":2000,"rows_last":500,"rows_between":2000,"halvings":0,"cell_chars":16384,"cell_head_chars":4096},"cells_cut":0,"cells_raw":0,"read":"whole","date_system":"1900"}

{"sheet":"Values","index":0,"n_rows":15,"n_cols":9,"rows_kept":15,"cut":false,"hidden":false,"merged":[[3,2,3,6],[5,2,5,6],[5,8,9,9],[7,2,10,7]]}
[null,null,null,null,"CONVERSIONS"]
[null,null,null,null,"FRACTIONS - DECIMALS - PERCENTAGES"]
[]
[null,null,"INSTRUCTIONS"]
[]
[null,"Step 1","Click on WorkSheet tab below.",null,null,null,null,null,"PRESS F9 for NEW WorkSheet"]
[]
[null,"Note","If you hold down shift then click on the WorkSheet tab and the Answers tab, you will be able to print both the WorkSheet and the solutions."]
[]
[]
[]
[]
[null,null,"NOTES:"]
[null,null,"* Convert between fractions, decimals and percentages."]
[null,null,"* Denominators include 2, 4, 5, 8 and 10"]

{"sheet":"Questions","index":1,"n_rows":54,"n_cols":20,"rows_kept":54,"cut":false,"hidden":false,"merged":[[13,4,14,4],[13,5,14,5],[4,2,5,2],[4,3,5,3],[4,4,5,4],[4,5,5,5],[7,2,8,2],[7,3,8,3],[7,4,8,4],[7,5,8,5],[7,12,8,12],[10,9,11,9],[22,2,23,2],[22,3,23,3],[22,4,23,4],[22,5,23,5],[25,2,26,2],[25,3,26,3],[25,4,26,4],[25,5,26,5],[16,2,17,2],[16,3,17,3],[16,4,17,4],[16,5,17,5],[19,2,20,2],[19,3,20,3],[19,4,20,4],[19,5,20,5],[10,2,11,2],[10,3,11,3],[10,4,11,4],[10,5,11,5],[13,2,14,2],[13,3,14,3],[25,9,26,9],[25,10,26,10],[25,11,26,11],[25,12,26,12],[16,9,17,9],[16,10,17,10],[16,11,17,11],[16,12,17,12],[19,9,20,9],[19,10,20,10],[19,11,20,11],[19,12,20,12],[7,16,8,16],[7,17,8,17],[7,18,8,18],[7,19,8,19],[4,16,5,16],[22,9,23,9],[22,10,23,10],[22,11,23,11],[22,12,23,12],[10,10,11,10],[10,11,11,11],[10,12,11,12],[13,9,14,9],[13,10,14,10],[13,11,14,11],[13,12,14,12],[4,9,5,9],[4,10,5,10],[4,11,5,11],[4,12,5,12],[10,16,11,16],[7,9,8,9],[7,10,8,10],[7,11,8,11],[10,17,11,17],[10,18,11,18],[10,19,11,19],[13,19,14,19],[13,18,14,18],[13,17,14,17],[4,17,5,17],[4,18,5,18],[4,19,5,19],[22,19,23,19],[22,18,23,18],[22,17,23,17],[22,16,23,16],[25,19,26,19],[25,18,26,18],[25,17,26,17],[25,16,26,16],[13,16,14,16],[16,19,17,19],[16,18,17,18],[16,17,17,17],[16,16,17,16],[19,16,20,16],[19,17,20,17],[19,18,20,18],[19,19,20,19],[37,17,38,17],[37,16,38,16],[28,19,29,19],[28,18,29,18],[28,17,29,17],[28,16,29,16],[31,19,32,19],[31,18,32,18],[31,17,32,17],[31,16,32,16],[46,19,47,19],[49,16,50,16],[49,17,50,17],[49,19,50,19],[31,12,32,12],[31,11,32,11],[37,12,38,12],[37,11,38,11],[43,12,44,12],[43,11,44,11],[40,16,41,16],[40,17,41,17],[40,18,41,18],[40,19,41,19],[43,19,44,19],[43,18,44,18],[43,17,44,17],[43,16,44,16],[34,16,35,16],[34,17,35,17],[34,19,35,19],[34,18,35,18],[37,19,38,19],[37,18,38,18],[40,12,41,12],[40,11,41,11],[40,10,41,10],[40,9,41,9],[31,10,32,10],[31,9,32,9],[34,9,35,9],[34,10,35,10],[34,11,35,11],[34,12,35,12],[43,10,44,10],[43,9,44,9],[49,9,50,9],[49,11,50,11],[46,9,47,9],[46,10,47,10],[46,11,47,11],[37,10,38,10],[37,9,38,9],[52,12,53,12],[49,18,50,18],[46,18,47,18],[52,10,53,10],[52,11,53,11],[49,12,50,12],[49,10,50,10],[46,12,47,12],[46,16,47,16],[46,17,47,17],[52,9,53,9],[52,5,53,5],[52,4,53,4],[52,3,53,3],[52,2,53,2],[49,2,50,2],[49,3,50,3],[49,4,50,4],[49,5,50,5],[40,3,41,3],[40,2,41,2],[40,4,41,4],[40,5,41,5],[37,5,38,5],[37,4,38,4],[37,3,38,3],[37,2,38,2],[46,3,47,3],[46,4,47,4],[46,5,47,5],[46,2,47,2],[43,2,44,2],[43,3,44,3],[43,4,44,4],[43,5,44,5],[28,11,29,11],[28,12,29,12],[28,2,29,2],[28,3,29,3],[28,4,29,4],[28,5,29,5],[28,9,29,9],[28,10,29,10],[34,2,35,2],[34,3,35,3],[34,4,35,4],[34,5,35,5],[31,5,32,5],[31,4,32,4],[31,3,32,3],[31,2,32,2]]}
[null,null,null,null,null,null,null,null,null,null,"FRACTIONS, DECIMALS & PERCENTAGES"]
[null,null,null,null,null,null,null,null,null,null,null,null,null,null,"Worksheet ",null,null,{"$f":"CONCATENATE(Working!A1,Working!C1)","v":"PDF-377"}]
["Complete the following giving equivalent fractions, decimals and percentages"]
[]
[{"$f":"Working!$C6","v":"1)"},{"$f":"Working!$K6","v":2},"=",{"$f":"Working!$M6","v":""},"=",{"$f":"Working!$N6","v":""},null,{"$f":"Working!$C19","v":"14)"},{"$f":"Working!$K23","v":""},"=",{"$f":"Working!$M23","v":""},"=",{"$f":"Working!$N23","v":"30%"},null,{"$f":"Working!$C40","v":"35)"},{"$f":"Working!$K40","v":3},"=",{"$f":"Working!$M40","v":""},"=",{"$f":"Working!$N40","v":""}]
[null,{"$f":"Working!$L6","v":4},null,null,null,null,null,null,{"$f":"Working!$L23","v":""},null,null,null,null,null,null,{"$f":"Working!$L40","v":4}]
[]
[{"$f":"Working!$C7","v":"2)"},{"$f":"Working!$K7","v":1},"=",{"$f":"Working!$M7","v":""},"=",{"$f":"Working!$N7","v":""},null,{"$f":"Working!$C24","v":"19)"},{"$f":"Working!$K24","v":""},"=",{"$f":"Working!$M24","v":""},"=",{"$f":"Working!$N24","v":"50%"},null,{"$f":"Working!$C41","v":"36)"},{"$f":"Working!$K41","v":""},"=",{"$f":"Working!$M41","v":""},"=",{"$f":"Working!$N41","v":"50%"}]
[null,{"$f":"Working!$L7","v":2},null,null,null,null,null,null,{"$f":"Working!$L24","v":""},null,null,null,null,null,null,{"$f":"Working!$L41","v":""}]
[]
[{"$f":"Working!$C8","v":"3)"},{"$f":"Working!$K8","v":4},"=",{"$f":"Working!$M8","v":""},"=",{"$f":"Working!$N8","v":""},null,{"$f":"Working!$C25","v":"20)"},{"$f":"Working!$K25","v":1},"=",{"$f":"Working!$M25","v":""},"=",{"$f":"Working!$N25","v":""},null,{"$f":"Working!$C42","v":"37)"},{"$f":"Working!$K42","v":2},"=",{"$f":"Working!$M42","v":""},"=",{"$f":"Working!$N42","v":""}]
[null,{"$f":"Working!$L8","v":10},null,null,null,null,null,null,{"$f":"Working!$L25","v":5},null,null,null,null,null,null,{"$f":"Working!$L42","v":5}]
[]
[{"$f":"Working!$C9","v":"4)"},{"$f":"Working!$K9","v":2},"=",{"$f":"Working!$M9","v":""},"=",{"$f":"Working!$N9","v":""},null,{"$f":"Working!$C26","v":"21)"},{"$f":"Working!$K26","v":""},"=",{"$f":"Working!$M26","v":0.2},"=",{"$f":"Working!$N26","v":""},null,{"$f":"Working!$C43","v":"38)"},{"$f":"Working!$K43","v":3},"=",{"$f":"Working!$M43","v":""},"=",{"$f":"Working!$N43","v":""}]
[null,{"$f":"Working!$L9","v":5},null,null,null,null,null,null,{"$f":"Working!$L26","v":""},null,null,null,null,null,null,{"$f":"Working!$L43","v":5}]
[]
[{"$f":"Working!$C10","v":"5)"},{"$f":"Working!$K10","v":6},"=",{"$f":"Working!$M10","v":""},"=",{"$f":"Working!$N10","v":""},null,{"$f":"Working!$C27","v":"22)"},{"$f":"Working!$K27","v":3},"=",{"$f":"Working!$M27","v":""},"=",{"$f":"Working!$N27","v":""},null,{"$f":"Working!$C44","v":"39)"},{"$f":"Working!$K44","v":""},"=",{"$f":"Working!$M44","v":0.4},"=",{"$f":"Working!$N44","v":""}]
[null,{"$f":"Working!$L10","v":8},null,null,null,null,null,null,{"$f":"Working!$L27","v":5},null,null,null,null,null,null,{"$f":"Working!$L44","v":""}]
[]
[{"$f":"Working!$C11","v":"6)"},{"$f":"Working!$K11","v":""},"=",{"$f":"Working!$M11","v":0.8},"=",{"$f":"Working!$N11","v":""},null,{"$f":"Working!$C28","v":"23)"},{"$f":"Working!$K28","v":""},"=",{"$f":"Working!$M28","v":""},"=",{"$f":"Working!$N28","v":"50%"},null,{"$f":"Working!$C45","v":"40)"},{"$f":"Working!$K45","v":7},"=",{"$f":"Working!$M45","v":""},"=",{"$f":"Working!$N45","v":""}]
[null,{"$f":"Working!$L11","v":""},null,null,null,null,null,null,{"$f":"Working!$L28","v":""},null,null,null,null,null,null,{"$f":"Working!$L45","v":10}]
[]
[{"$f":"Working!$C12","v":"7)"},{"$f":"Working!$K12","v":""},"=",{"$f":"Working!$M12","v":0.25},"=",{"$f":"Working!$N12","v":""},null,{"$f":"Working!$C29","v":"24)"},{"$f":"Working!$K29","v":""},"=",{"$f":"Working!$M29","v":0.9},"=",{"$f":"Working!$N29","v":""},null,{"$f":"Working!$C46","v":"41)"},{"$f":"Working!$K46","v":""},"=",{"$f":"Working!$M46","v":0.5},"=",{"$f":"Working!$N46","v":""}]
[null,{"$f":"Working!$L12","v":""},null,null,null,null,null,null,{"$f":"Working!$L29","v":""},null,null,null,null,null,null,{"$f":"Working!$L46","v":""}]
[]
[{"$f":"Working!$C13","v":"8)"},{"$f":"Working!$K13","v":""},"=",{"$f":"Working!$M13","v":0.25},"=",{"$f":"Working!$N13","v":""},null,{"$f":"Working!$C30","v":"25)"},{"$f":"Working!$K30","v":""},"=",{"$f":"Working!$M30","v":""},"=",{"$f":"Working!$N30","v":"50%"},null,{"$f":"Working!$C47","v":"42)"},{"$f":"Working!$K47","v":""},"=",{"$f":"Working!$M47","v":""},"=",{"$f":"Working!$N47","v":"70%"}]
[null,{"$f":"Working!$L13","v":""},null,null,null,null,null,null,{"$f":"Working!$L30","v":""},null,null,null,null,null,null,{"$f":"Working!$L47","v":""}]
[]
[{"$f":"Working!$C14","v":"9)"},{"$f":"Working!$K14","v":""},"=",{"$f":"Working!$M14","v":0.5},"=",{"$f":"Working!$N14","v":""},null,{"$f":"Working!$C31","v":"26)"},{"$f":"Working!$K31","v":""},"=",{"$f":"Working!$M31","v":0.8},"=",{"$f":"Working!$N31","v":""},null,{"$f":"Working!$C48","v":"43)"},{"$f":"Working!$K48","v":""},"=",{"$f":"Working!$M48","v":""},"=",{"$f":"Working!$N48","v":"75%"}]
[null,{"$f":"Working!$L14","v":""},null,null,null,null,null,null,{"$f":"Working!$L31","v":""},null,null,null,null,null,null,{"$f":"Working!$L48","v":""}]
[]
[{"$f":"Working!$C15","v":"10)"},{"$f":"Working!$K15","v":""},"=",{"$f":"Working!$M15","v":0.7},"=",{"$f":"Working!$N15","v":""},null,{"$f":"Working!$C32","v":"27)"},{"$f":"Working!$K32","v":""},"=",{"$f":"Working!$M32","v":0.4},"=",{"$f":"Working!$N32","v":""},null,{"$f":"Working!$C49","v":"44)"},{"$f":"Working!$K49","v":""},"=",{"$f":"Working!$M49","v":0.8},"=",{"$f":"Working!$N49","v":""}]
[null,{"$f":"Working!$L15","v":""},null,null,null,null,null,null,{"$f":"Working!$L32","v":""},null,null,null,null,null,null,{"$f":"Working!$L49","v":""}]
[]
[{"$f":"Working!$C16","v":"11)"},{"$f":"Working!$K16","v":""},"=",{"$f":"Working!$M16","v":""},"=",{"$f":"Working!$N16","v":"60%"},null,{"$f":"Working!$C33","v":"28)"},{"$f":"Working!$K33","v":""},"=",{"$f":"Working!$M33","v":0.2},"=",{"$f":"Working!$N33","v":""},null,{"$f":"Working!$C50","v":"45)"},{"$f":"Working!$K50","v":""},"=",{"$f":"Working!$M50","v":0.6},"=",{"$f":"Working!$N50","v":""}]
[null,{"$f":"Working!$L16","v":""},null,null,null,null,null,null,{"$f":"Working!$L33","v":""},null,null,null,null,null,null,{"$f":"Working!$L50","v":""}]
[]
[{"$f":"Working!$C17","v":"12)"},{"$f":"Working!$K17","v":""},"=",{"$f":"Working!$M17","v":""},"=",{"$f":"Working!$N17","v":"80%"},null,{"$f":"Working!$C34","v":"29)"},{"$f":"Working!$K34","v":""},"=",{"$f":"Working!$M34","v":""},"=",{"$f":"Working!$N34","v":"25%"},null,{"$f":"Working!$C51","v":"46)"},{"$f":"Working!$K51","v":""},"=",{"$f":"Working!$M51","v":""},"=",{"$f":"Working!$N51","v":"75%"}]
[null,{"$f":"Working!$L17","v":""},null,null,null,null,null,null,{"$f":"Working!$L34","v":""},null,null,null,null,null,null,{"$f":"Working!$L51","v":""}]
[]
[{"$f":"Working!$C18","v":"13)"},{"$f":"Working!$K18","v":""},"=",{"$f":"Working!$M18","v":""},"=",{"$f":"Working!$N18","v":"60%"},null,{"$f":"Working!$C35","v":"30)"},{"$f":"Working!$K35","v":""},"=",{"$f":"Working!$M35","v":""},"=",{"$f":"Working!$N35","v":"87.5%"},null,{"$f":"Working!$C52","v":"47)"},{"$f":"Working!$K52","v":""},"=",{"$f":"Working!$M52","v":""},"=",{"$f":"Working!$N52","v":"50%"}]
[null,{"$f":"Working!$L18","v":""},null,null,null,null,null,null,{"$f":"Working!$L35","v":""},null,null,null,null,null,null,{"$f":"Working!$L52","v":""}]
[]
[{"$f":"Working!$C19","v":"14)"},{"$f":"Working!$K19","v":""},"=",{"$f":"Working!$M19","v":""},"=",{"$f":"Working!$N19","v":"70%"},null,{"$f":"Working!$C36","v":"31)"},{"$f":"Working!$K36","v":4},"=",{"$f":"Working!$M36","v":""},"=",{"$f":"Working!$N36","v":""},null,{"$f":"Working!$C53","v":"48)"},{"$f":"Working!$K53","v":2},"=",{"$f":"Working!$M53","v":""},"=",{"$f":"Working!$N53","v":""}]
[null,{"$f":"Working!$L19","v":""},null,null,null,null,null,null,{"$f":"Working!$L36","v":8},null,null,null,null,null,null,{"$f":"Working!$L53","v":5}]
[]
[{"$f":"Working!$C20","v":"15)"},{"$f":"Working!$K20","v":""},"=",{"$f":"Working!$M20","v":""},"=",{"$f":"Working!$N20","v":"62.5%"},null,{"$f":"Working!$C37","v":"32)"},{"$f":"Working!$K37","v":6},"=",{"$f":"Working!$M37","v":""},"=",{"$f":"Working!$N37","v":""},null,{"$f":"Working!$C54","v":"49)"},{"$f":"Working!$K54","v":""},"=",{"$f":"Working!$M54","v":0.375},"=",{"$f":"Working!$N54","v":""}]
[null,{"$f":"Working!$L20","v":""},null,null,null,null,null,null,{"$f":"Working!$L37","v":10},null,null,null,null,null,null,{"$f":"Working!$L54","v":""}]
[]
[{"$f":"Working!$C21","v":"16)"},{"$f":"Working!$K21","v":""},"=",{"$f":"Working!$M21","v":0.75},"=",{"$f":"Working!$N21","v":""},null,{"$f":"Working!$C38","v":"33)"},{"$f":"Working!$K38","v":""},"=",{"$f":"Working!$M38","v":""},"=",{"$f":"Working!$N38","v":"80%"},null,{"$f":"Working!$C55","v":"50)"},{"$f":"Working!$K55","v":""},"=",{"$f":"Working!$M55","v":0.7},"=",{"$f":"Working!$N55","v":""}]
[null,{"$f":"Working!$L21","v":""},null,null,null,null,null,null,{"$f":"Working!$L38","v":""},null,null,null,null,null,null,{"$f":"Working!$L55","v":""}]
[]
[{"$f":"Working!$C22","v":"17)"},{"$f":"Working!$K22","v":""},"=",{"$f":"Working!$M22","v":0.2},"=",{"$f":"Working!$N22","v":""},null,{"$f":"Working!$C39","v":"34)"},{"$f":"Working!$K39","v":""},"=",{"$f":"Working!$M39","v":0.5},"=",{"$f":"Working!$N39","v":""}]
[null,{"$f":"Working!$L22","v":""},null,null,null,null,null,null,{"$f":"Working!$L39","v":""}]

{"sheet":"Answers","index":2,"n_rows":54,"n_cols":20,"rows_kept":54,"cut":false,"hidden":false,"merged":[[13,4,14,4],[13,5,14,5],[4,3,5,3],[4,4,5,4],[4,5,5,5],[7,2,8,2],[7,3,8,3],[7,4,8,4],[7,5,8,5],[4,2,5,2],[7,12,8,12],[10,9,11,9],[22,2,23,2],[22,3,23,3],[22,4,23,4],[22,5,23,5],[25,2,26,2],[25,3,26,3],[25,4,26,4],[25,5,26,5],[16,2,17,2],[16,3,17,3],[16,4,17,4],[16,5,17,5],[19,2,20,2],[19,3,20,3],[19,4,20,4],[19,5,20,5],[10,2,11,2],[10,3,11,3],[10,4,11,4],[10,5,11,5],[13,2,14,2],[13,3,14,3],[25,9,26,9],[25,10,26,10],[25,11,26,11],[25,12,26,12],[16,9,17,9],[16,10,17,10],[16,11,17,11],[16,12,17,12],[19,9,20,9],[19,10,20,10],[19,11,20,11],[19,12,20,12],[7,16,8,16],[7,17,8,17],[7,18,8,18],[7,19,8,19],[4,16,5,16],[22,9,23,9],[22,10,23,10],[22,11,23,11],[22,12,23,12],[10,10,11,10],[10,11,11,11],[10,12,11,12],[13,9,14,9],[13,10,14,10],[13,11,14,11],[13,12,14,12],[4,9,5,9],[4,10,5,10],[4,11,5,11],[4,12,5,12],[10,16,11,16],[7,9,8,9],[7,10,8,10],[7,11,8,11],[10,17,11,17],[10,18,11,18],[10,19,11,19],[13,19,14,19],[13,18,14,18],[13,17,14,17],[4,17,5,17],[4,18,5,18],[4,19,5,19],[22,19,23,19],[22,18,23,18],[22,17,23,17],[22,16,23,16],[25,19,26,19],[25,18,26,18],[25,17,26,17],[25,16,26,16],[13,16,14,16],[16,19,17,19],[16,18,17,18],[16,17,17,17],[16,16,17,16],[19,16,20,16],[19,17,20,17],[19,18,20,18],[19,19,20,19],[37,17,38,17],[37,16,38,16],[28,19,29,19],[28,18,29,18],[28,17,29,17],[28,16,29,16],[31,19,32,19],[31,18,32,18],[31,17,32,17],[31,16,32,16],[46,19,47,19],[49,16,50,16],[49,17,50,17],[49,19,50,19],[31,12,32,12],[31,11,32,11],[37,12,38,12],[37,11,38,11],[43,12,44,12],[43,11,44,11],[40,16,41,16],[40,17,41,17],[40,18,41,18],[40,19,41,19],[43,19,44,19],[43,18,44,18],[43,17,44,17],[43,16,44,16],[34,16,35,16],[34,17,35,17],[34,19,35,19],[34,18,35,18],[37,19,38,19],[37,18,38,18],[40,12,41,12],[40,11,41,11],[40,10,41,10],[40,9,41,9],[31,10,32,10],[31,9,32,9],[34,9,35,9],[34,10,35,10],[34,11,35,11],[34,12,35,12],[43,10,44,10],[43,9,44,9],[49,9,50,9],[49,11,50,11],[46,9,47,9],[46,10,47,10],[46,11,47,11],[37,10,38,10],[37,9,38,9],[52,12,53,12],[49,18,50,18],[46,18,47,18],[52,10,53,10],[52,11,53,11],[49,12,50,12],[49,10,50,10],[46,12,47,12],[46,16,47,16],[46,17,47,17],[52,9,53,9],[52,5,53,5],[52,4,53,4],[52,3,53,3],[52,2,53,2],[49,2,50,2],[49,3,50,3],[49,4,50,4],[49,5,50,5],[40,3,41,3],[40,2,41,2],[40,4,41,4],[40,5,41,5],[37,5,38,5],[37,4,38,4],[37,3,38,3],[37,2,38,2],[46,3,47,3],[46,4,47,4],[46,5,47,5],[46,2,47,2],[43,2,44,2],[43,3,44,3],[43,4,44,4],[43,5,44,5],[28,11,29,11],[28,12,29,12],[28,2,29,2],[28,3,29,3],[28,4,29,4],[28,5,29,5],[28,9,29,9],[28,10,29,10],[34,2,35,2],[34,3,35,3],[34,4,35,4],[34,5,35,5],[31,5,32,5],[31,4,32,4],[31,3,32,3],[31,2,32,2]]}
[null,null,null,null,null,null,null,null,null,null,"FRACTIONS, DECIMALS & PERCENTAGES"]
[null,null,null,null,null,null,null,null,null,null,null,null,null,null,"Worksheet ",null,null,{"$f":"CONCATENATE(Working!A1,Working!C1)","v":"PDF-377"}]
["Complete the following giving equivalent fractions, decimals and percentages"]
[]
[{"$f":"Working!$C6","v":"1)"},{"$f":"Working!$F6","v":2},"=",{"$f":"Working!$G6","v":0.5},"=",{"$f":"Working!$H6","v":"50%"},null,{"$f":"Working!$C19","v":"14)"},{"$f":"Working!$F23","v":3},"=",{"$f":"Working!$G23","v":0.3},"=",{"$f":"Working!$H23","v":"30%"},null,{"$f":"Working!$C40","v":"35)"},{"$f":"Working!$F40","v":3},"=",{"$f":"Working!$G40","v":0.75},"=",{"$f":"Working!$H40","v":"75%"}]
[null,{"$f":"Working!$E6","v":4},null,null,null,null,null,null,{"$f":"Working!$E23","v":10},null,null,null,null,null,null,{"$f":"Working!$E40","v":4}]
[]
[{"$f":"Working!$C7","v":"2)"},{"$f":"Working!$F7","v":1},"=",{"$f":"Working!$G7","v":0.5},"=",{"$f":"Working!$H7","v":"50%"},null,{"$f":"Working!$C24","v":"19)"},{"$f":"Working!$F24","v":1},"=",{"$f":"Working!$G24","v":0.5},"=",{"$f":"Working!$H24","v":"50%"},null,{"$f":"Working!$C41","v":"36)"},{"$f":"Working!$F41","v":2},"=",{"$f":"Working!$G41","v":0.5},"=",{"$f":"Working!$H41","v":"50%"}]
[null,{"$f":"Working!$E7","v":2},null,null,null,null,null,null,{"$f":"Working!$E24","v":2},null,null,null,null,null,null,{"$f":"Working!$E41","v":4}]
[]
[{"$f":"Working!$C8","v":"3)"},{"$f":"Working!$F8","v":4},"=",{"$f":"Working!$G8","v":0.4},"=",{"$f":"Working!$H8","v":"40%"},null,{"$f":"Working!$C25","v":"20)"},{"$f":"Working!$F25","v":1},"=",{"$f":"Working!$G25","v":0.2},"=",{"$f":"Working!$H25","v":"20%"},null,{"$f":"Working!$C42","v":"37)"},{"$f":"Working!$F42","v":2},"=",{"$f":"Working!$G42","v":0.4},"=",{"$f":"Working!$H42","v":"40%"}]
[null,{"$f":"Working!$E8","v":10},null,null,null,null,null,null,{"$f":"Working!$E25","v":5},null,null,null,null,null,null,{"$f":"Working!$E42","v":5}]
[]
[{"$f":"Working!$C9","v":"4)"},{"$f":"Working!$F9","v":2},"=",{"$f":"Working!$G9","v":0.4},"=",{"$f":"Working!$H9","v":"40%"},null,{"$f":"Working!$C26","v":"21)"},{"$f":"Working!$F26","v":2},"=",{"$f":"Working!$G26","v":0.2},"=",{"$f":"Working!$H26","v":"20%"},null,{"$f":"Working!$C43","v":"38)"},{"$f":"Working!$F43","v":3},"=",{"$f":"Working!$G43","v":0.6},"=",{"$f":"Working!$H43","v":"60%"}]
[null,{"$f":"Working!$E9","v":5},null,null,null,null,null,null,{"$f":"Working!$E26","v":10},null,null,null,null,null,null,{"$f":"Working!$E43","v":5}]
[]
[{"$f":"Working!$C10","v":"5)"},{"$f":"Working!$F10","v":6},"=",{"$f":"Working!$G10","v":0.75},"=",{"$f":"Working!$H10","v":"75%"},null,{"$f":"Working!$C27","v":"22)"},{"$f":"Working!$F27","v":3},"=",{"$f":"Working!$G27","v":0.6},"=",{"$f":"Working!$H27","v":"60%"},null,{"$f":"Working!$C44","v":"39)"},{"$f":"Working!$F44","v":2},"=",{"$f":"Working!$G44","v":0.4},"=",{"$f":"Working!$H44","v":"40%"}]
[null,{"$f":"Working!$E10","v":8},null,null,null,null,null,null,{"$f":"Working!$E27","v":5},null,null,null,null,null,null,{"$f":"Working!$E44","v":5}]
[]
[{"$f":"Working!$C11","v":"6)"},{"$f":"Working!$F11","v":4},"=",{"$f":"Working!$G11","v":0.8},"=",{"$f":"Working!$H11","v":"80%"},null,{"$f":"Working!$C28","v":"23)"},{"$f":"Working!$F28","v":2},"=",{"$f":"Working!$G28","v":0.5},"=",{"$f":"Working!$H28","v":"50%"},null,{"$f":"Working!$C45","v":"40)"},{"$f":"Working!$F45","v":7},"=",{"$f":"Working!$G45","v":0.7},"=",{"$f":"Working!$H45","v":"70%"}]
[null,{"$f":"Working!$E11","v":5},null,null,null,null,null,null,{"$f":"Working!$E28","v":4},null,null,null,null,null,null,{"$f":"Working!$E45","v":10}]
[]
[{"$f":"Working!$C12","v":"7)"},{"$f":"Working!$F12","v":2},"=",{"$f":"Working!$G12","v":0.25},"=",{"$f":"Working!$H12","v":"25%"},null,{"$f":"Working!$C29","v":"24)"},{"$f":"Working!$F29","v":9},"=",{"$f":"Working!$G29","v":0.9},"=",{"$f":"Working!$H29","v":"90%"},null,{"$f":"Working!$C46","v":"41)"},{"$f":"Working!$F46","v":4},"=",{"$f":"Working!$G46","v":0.5},"=",{"$f":"Working!$H46","v":"50%"}]
[null,{"$f":"Working!$E12","v":8},null,null,null,null,null,null,{"$f":"Working!$E29","v":10},null,null,null,null,null,null,{"$f":"Working!$E46","v":8}]
[]
[{"$f":"Working!$C13","v":"8)"},{"$f":"Working!$F13","v":1},"=",{"$f":"Working!$G13","v":0.25},"=",{"$f":"Working!$H13","v":"25%"},null,{"$f":"Working!$C30","v":"25)"},{"$f":"Working!$F30","v":1},"=",{"$f":"Working!$G30","v":0.5},"=",{"$f":"Working!$H30","v":"50%"},null,{"$f":"Working!$C47","v":"42)"},{"$f":"Working!$F47","v":7},"=",{"$f":"Working!$G47","v":0.7},"=",{"$f":"Working!$H47","v":"70%"}]
[null,{"$f":"Working!$E13","v":4},null,null,null,null,null,null,{"$f":"Working!$E30","v":2},null,null,null,null,null,null,{"$f":"Working!$E47","v":10}]
[]
[{"$f":"Working!$C14","v":"9)"},{"$f":"Working!$F14","v":4},"=",{"$f":"Working!$G14","v":0.5},"=",{"$f":"Working!$H14","v":"50%"},null,{"$f":"Working!$C31","v":"26)"},{"$f":"Working!$F31","v":4},"=",{"$f":"Working!$G31","v":0.8},"=",{"$f":"Working!$H31","v":"80%"},null,{"$f":"Working!$C48","v":"43)"},{"$f":"Working!$F48","v":3},"=",{"$f":"Working!$G48","v":0.75},"=",{"$f":"Working!$H48","v":"75%"}]
[null,{"$f":"Working!$E14","v":8},null,null,null,null,null,null,{"$f":"Working!$E31","v":5},null,null,null,null,null,null,{"$f":"Working!$E48","v":4}]
[]
[{"$f":"Working!$C15","v":"10)"},{"$f":"Working!$F15","v":7},"=",{"$f":"Working!$G15","v":0.7},"=",{"$f":"Working!$H15","v":"70%"},null,{"$f":"Working!$C32","v":"27)"},{"$f":"Working!$F32","v":2},"=",{"$f":"Working!$G32","v":0.4},"=",{"$f":"Working!$H32","v":"40%"},null,{"$f":"Working!$C49","v":"44)"},{"$f":"Working!$F49","v":4},"=",{"$f":"Working!$G49","v":0.8},"=",{"$f":"Working!$H49","v":"80%"}]
[null,{"$f":"Working!$E15","v":10},null,null,null,null,null,null,{"$f":"Working!$E32","v":5},null,null,null,null,null,null,{"$f":"Working!$E49","v":5}]
[]
[{"$f":"Working!$C16","v":"11)"},{"$f":"Working!$F16","v":3},"=",{"$f":"Working!$G16","v":0.6},"=",{"$f":"Working!$H16","v":"60%"},null,{"$f":"Working!$C33","v":"28)"},{"$f":"Working!$F33","v":1},"=",{"$f":"Working!$G33","v":0.2},"=",{"$f":"Working!$H33","v":"20%"},null,{"$f":"Working!$C50","v":"45)"},{"$f":"Working!$F50","v":3},"=",{"$f":"Working!$G50","v":0.6},"=",{"$f":"Working!$H50","v":"60%"}]
[null,{"$f":"Working!$E16","v":5},null,null,null,null,null,null,{"$f":"Working!$E33","v":5},null,null,null,null,null,null,{"$f":"Working!$E50","v":5}]
[]
[{"$f":"Working!$C17","v":"12)"},{"$f":"Working!$F17","v":4},"=",{"$f":"Working!$G17","v":0.8},"=",{"$f":"Working!$H17","v":"80%"},null,{"$f":"Working!$C34","v":"29)"},{"$f":"Working!$F34","v":1},"=",{"$f":"Working!$G34","v":0.25},"=",{"$f":"Working!$H34","v":"25%"},null,{"$f":"Working!$C51","v":"46)"},{"$f":"Working!$F51","v":6},"=",{"$f":"Working!$G51","v":0.75},"=",{"$f":"Working!$H51","v":"75%"}]
[null,{"$f":"Working!$E17","v":5},null,null,null,null,null,null,{"$f":"Working!$E34","v":4},null,null,null,null,null,null,{"$f":"Working!$E51","v":8}]
[]
[{"$f":"Working!$C18","v":"13)"},{"$f":"Working!$F18","v":3},"=",{"$f":"Working!$G18","v":0.6},"=",{"$f":"Working!$H18","v":"60%"},null,{"$f":"Working!$C35","v":"30)"},{"$f":"Working!$F35","v":7},"=",{"$f":"Working!$G35","v":0.875},"=",{"$f":"Working!$H35","v":"87.5%"},null,{"$f":"Working!$C52","v":"47)"},{"$f":"Working!$F52","v":2},"=",{"$f":"Working!$G52","v":0.5},"=",{"$f":"Working!$H52","v":"50%"}]
[null,{"$f":"Working!$E18","v":5},null,null,null,null,null,null,{"$f":"Working!$E35","v":8},null,null,null,null,null,null,{"$f":"Working!$E52","v":4}]
[]
[{"$f":"Working!$C19","v":"14)"},{"$f":"Working!$F19","v":7},"=",{"$f":"Working!$G19","v":0.7},"=",{"$f":"Working!$H19","v":"70%"},null,{"$f":"Working!$C36","v":"31)"},{"$f":"Working!$F36","v":4},"=",{"$f":"Working!$G36","v":0.5},"=",{"$f":"Working!$H36","v":"50%"},null,{"$f":"Working!$C53","v":"48)"},{"$f":"Working!$F53","v":2},"=",{"$f":"Working!$G53","v":0.4},"=",{"$f":"Working!$H53","v":"40%"}]
[null,{"$f":"Working!$E19","v":10},null,null,null,null,null,null,{"$f":"Working!$E36","v":8},null,null,null,null,null,null,{"$f":"Working!$E53","v":5}]
[]
[{"$f":"Working!$C20","v":"15)"},{"$f":"Working!$F20","v":5},"=",{"$f":"Working!$G20","v":0.625},"=",{"$f":"Working!$H20","v":"62.5%"},null,{"$f":"Working!$C37","v":"32)"},{"$f":"Working!$F37","v":6},"=",{"$f":"Working!$G37","v":0.6},"=",{"$f":"Working!$H37","v":"60%"},null,{"$f":"Working!$C54","v":"49)"},{"$f":"Working!$F54","v":3},"=",{"$f":"Working!$G54","v":0.375},"=",{"$f":"Working!$H54","v":"37.5%"}]
[null,{"$f":"Working!$E20","v":8},null,null,null,null,null,null,{"$f":"Working!$E37","v":10},null,null,null,null,null,null,{"$f":"Working!$E54","v":8}]
[]
[{"$f":"Working!$C21","v":"16)"},{"$f":"Working!$F21","v":3},"=",{"$f":"Working!$G21","v":0.75},"=",{"$f":"Working!$H21","v":"75%"},null,{"$f":"Working!$C38","v":"33)"},{"$f":"Working!$F38","v":4},"=",{"$f":"Working!$G38","v":0.8},"=",{"$f":"Working!$H38","v":"80%"},null,{"$f":"Working!$C55","v":"50)"},{"$f":"Working!$F55","v":7},"=",{"$f":"Working!$G55","v":0.7},"=",{"$f":"Working!$H55","v":"70%"}]
[null,{"$f":"Working!$E21","v":4},null,null,null,null,null,null,{"$f":"Working!$E38","v":5},null,null,null,null,null,null,{"$f":"Working!$E55","v":10}]
[]
[{"$f":"Working!$C22","v":"17)"},{"$f":"Working!$F22","v":1},"=",{"$f":"Working!$G22","v":0.2},"=",{"$f":"Working!$H22","v":"20%"},null,{"$f":"Working!$C39","v":"34)"},{"$f":"Working!$F39","v":4},"=",{"$f":"Working!$G39","v":0.5},"=",{"$f":"Working!$H39","v":"50%"}]
[null,{"$f":"Working!$E22","v":5},null,null,null,null,null,null,{"$f":"Working!$E39","v":8}]

{"sheet":"Working","index":3,"n_rows":105,"n_cols":14,"rows_kept":105,"cut":false,"hidden":true,"merged":[]}
["PDF-",null,{"$f":"INT(999*RAND()+1)","v":377}]
[]
[]
[]
[]
[1,")",{"$f":"CONCATENATE(A6,B6)","v":"1)"},{"$f":"INT(10*RAND()+1)","v":6},{"$f":"IF(D6=2,2,IF(D6=3,10,IF(D6=4,4,IF(D6=5,5,IF(D6=6,4,IF(D6=7,8,IF(D6=8,8,IF(D6=9,5,10))))))))","v":4},{"$f":"INT((E6-1)*RAND()+1)","v":2},{"$f":"F6/E6","v":0.5},{"$f":"CONCATENATE(G6*100,\"%\")","v":"50%"},null,0,{"$f":"IF($J6=0,F6,\"\")","v":2},{"$f":"IF($J6=0,E6,\"\")","v":4},{"$f":"IF($J6=1,G6,\"\")","v":""},{"$f":"IF($J6=2,H6,\"\")","v":""}]
[2,")",{"$f":"CONCATENATE(A7,B7)","v":"2)"},{"$f":"INT(10*RAND()+1)","v":2},{"$f":"IF(D7=2,2,IF(D7=3,10,IF(D7=4,4,IF(D7=5,5,IF(D7=6,4,IF(D7=7,8,IF(D7=8,8,IF(D7=9,5,10))))))))","v":2},{"$f":"INT((E7-1)*RAND()+1)","v":1},{"$f":"F7/E7","v":0.5},{"$f":"CONCATENATE(G7*100,\"%\")","v":"50%"},null,0,{"$f":"IF($J7=0,F7,\"\")","v":1},{"$f":"IF($J7=0,E7,\"\")","v":2},{"$f":"IF($J7=1,G7,\"\")","v":""},{"$f":"IF($J7=2,H7,\"\")","v":""}]
[3,")","3)",3,10,4,0.4,"40%",null,0,4,10,"",""]
[4,")","4)",9,5,2,0.4,"40%",null,0,2,5,"",""]
[5,")","5)",7,8,6,0.75,"75%",null,0,6,8,"",""]
[6,")","6)",5,5,4,0.8,"80%",null,1,"","",0.8,""]
[7,")","7)",7,8,2,0.25,"25%",null,1,"","",0.25,""]
[8,")","8)",4,4,1,0.25,"25%",null,1,"","",0.25,""]
[9,")","9)",7,8,4,0.5,"50%",null,1,"","",0.5,""]
[10,")","10)",1,10,7,0.7,"70%",null,1,"","",0.7,""]
[11,")","11)",9,5,3,0.6,"60%",null,2,"","","","60%"]
[12,")","12)",9,5,4,0.8,"80%",null,2,"","","","80%"]
[13,")","13)",5,5,3,0.6,"60%",null,2,"","","","60%"]
[14,")","14)",3,10,7,0.7,"70%",null,2,"","","","70%"]
[15,")","15)",7,8,5,0.625,"62.5%",null,2,"","","","62.5%"]
[16,")","16)",6,4,3,0.75,"75%",null,{"$f":"INT(3*RAND())","v":1},"","",0.75,""]
[17,")","17)",9,5,1,0.2,"20%",null,1,"","",0.2,""]
[18,")","18)",3,10,3,0.3,"30%",null,2,"","","","30%"]
[19,")","19)",2,2,1,0.5,"50%",null,2,"","","","50%"]
[20,")","20)",9,5,1,0.2,"20%",null,0,1,5,"",""]
[21,")","21)",3,10,2,0.2,"20%",null,1,"","",0.2,""]
[22,")","22)",9,5,3,0.6,"60%",null,0,3,5,"",""]
[23,")","23)",4,4,2,0.5,"50%",null,2,"","","","50%"]
[24,")","24)",3,10,9,0.9,"90%",null,1,"","",0.9,""]
[25,")","25)",2,2,1,0.5,"50%",null,2,"","","","50%"]
[26,")","26)",9,5,4,0.8,"80%",null,1,"","",0.8,""]
[27,")","27)",5,5,2,0.4,"40%",null,1,"","",0.4,""]
[28,")","28)",9,5,1,0.2,"20%",null,1,"","",0.2,""]
[29,")","29)",6,4,1,0.25,"25%",null,2,"","","","25%"]
[30,")","30)",8,8,7,0.875,"87.5%",null,2,"","","","87.5%"]
[31,")","31)",8,8,4,0.5,"50%",null,0,4,8,"",""]
[32,")","32)",10,10,6,0.6,"60%",null,0,6,10,"",""]
[33,")","33)",9,5,4,0.8,"80%",null,2,"","","","80%"]
[34,")","34)",7,8,4,0.5,"50%",null,1,"","",0.5,""]
[35,")","35)",6,4,3,0.75,"75%",null,0,3,4,"",""]
[36,")","36)",6,4,2,0.5,"50%",null,2,"","","","50%"]
[37,")","37)",9,5,2,0.4,"40%",null,0,2,5,"",""]
[38,")","38)",9,5,3,0.6,"60%",null,0,3,5,"",""]
[39,")","39)",5,5,2,0.4,"40%",null,1,"","",0.4,""]
[40,")","40)",1,10,7,0.7,"70%",null,0,7,10,"",""]
[41,")","41)",7,8,4,0.5,"50%",null,1,"","",0.5,""]
[42,")","42)",1,10,7,0.7,"70%",null,2,"","","","70%"]
[43,")","43)",6,4,3,0.75,"75%",null,2,"","","","75%"]
[44,")","44)",9,5,4,0.8,"80%",null,1,"","",0.8,""]
[45,")","45)",5,5,3,0.6,"60%",null,1,"","",0.6,""]
[46,")","46)",7,8,6,0.75,"75%",null,2,"","","","75%"]
[47,")","47)",6,4,2,0.5,"50%",null,2,"","","","50%"]
[48,")","48)",5,5,2,0.4,"40%",null,0,2,5,"",""]
[49,")","49)",7,8,3,0.375,"37.5%",null,1,"","",0.375,""]
[50,")","50)",1,10,7,0.7,"70%",null,1,"","",0.7,""]
[51,")","51)",8,8,5,0.625,"62.5%",null,2,"","","","62.5%"]
[52,")","52)",1,10,6,0.6,"60%",null,2,"","","","60%"]
[53,")","53)",10,10,4,0.4,"40%",null,0,4,10,"",""]
[54,")","54)",2,2,1,0.5,"50%",null,1,"","",0.5,""]
[55,")","55)",8,8,4,0.5,"50%",null,1,"","",0.5,""]
[56,")","56)",9,5,1,0.2,"20%",null,0,1,5,"",""]
[57,")","57)",2,2,1,0.5,"50%",null,1,"","",0.5,""]
[58,")","58)",10,10,5,0.5,"50%",null,0,5,10,"",""]
[59,")","59)",4,4,1,0.25,"25%",null,0,1,4,"",""]
[60,")","60)",1,10,9,0.9,"90%",null,2,"","","","90%"]
[61,")","61)",4,4,3,0.75,"75%",null,1,"","",0.75,""]
[62,")","62)",2,2,1,0.5,"50%",null,1,"","",0.5,""]
[63,")","63)",7,8,6,0.75,"75%",null,1,"","",0.75,""]
[64,")","64)",3,10,9,0.9,"90%",null,0,9,10,"",""]
[65,")","65)",1,10,6,0.6,"60%",null,1,"","",0.6,""]
[66,")",{"$f":"CONCATENATE(A71,B71)","v":"66)"},{"$f":"INT(10*RAND()+1)","v":6},{"$f":"IF(D71=2,2,IF(D71=3,10,IF(D71=4,4,IF(D71=5,5,IF(D71=6,4,IF(D71=7,8,IF(D71=8,8,IF(D71=9,5,10))))))))","v":4},{"$f":"INT((E71-1)*RAND()+1)","v":3},{"$f":"F71/E71","v":0.75},{"$f":"CONCATENATE(G71*100,\"%\")","v":"75%"},null,{"$f":"INT(3*RAND())","v":1},{"$f":"IF($J71=0,F71,\"\")","v":""},{"$f":"IF($J71=0,E71,\"\")","v":""},{"$f":"IF($J71=1,G71,\"\")","v":0.75},{"$f":"IF($J71=2,H71,\"\")","v":""}]
[67,")","67)",4,4,3,0.75,"75%",null,0,3,4,"",""]
[68,")","68)",7,8,4,0.5,"50%",null,1,"","",0.5,""]
[69,")","69)",5,5,1,0.2,"20%",null,2,"","","","20%"]
[70,")","70)",5,5,4,0.8,"80%",null,1,"","",0.8,""]
[71,")","71)",3,10,1,0.1,"10%",null,0,1,10,"",""]
[72,")","72)",2,2,1,0.5,"50%",null,2,"","","","50%"]
[73,")","73)",10,10,9,0.9,"90%",null,2,"","","","90%"]
[74,")","74)",1,10,5,0.5,"50%",null,1,"","",0.5,""]
[75,")","75)",4,4,1,0.25,"25%",null,1,"","",0.25,""]
[76,")","76)",7,8,3,0.375,"37.5%",null,2,"","","","37.5%"]
[77,")","77)",4,4,1,0.25,"25%",null,1,"","",0.25,""]
[78,")","78)",9,5,2,0.4,"40%",null,1,"","",0.4,""]
[79,")","79)",6,4,2,0.5,"50%",null,0,2,4,"",""]
[80,")","80)",1,10,3,0.3,"30%",null,0,3,10,"",""]
[81,")","81)",4,4,2,0.5,"50%",null,2,"","","","50%"]
[82,")","82)",10,10,8,0.8,"80%",null,2,"","","","80%"]
[83,")","83)",4,4,1,0.25,"25%",null,0,1,4,"",""]
[84,")","84)",9,5,4,0.8,"80%",null,2,"","","","80%"]
[85,")","85)",8,8,7,0.875,"87.5%",null,1,"","",0.875,""]
[86,")","86)",8,8,7,0.875,"87.5%",null,2,"","","","87.5%"]
[87,")","87)",3,10,4,0.4,"40%",null,0,4,10,"",""]
[88,")","88)",4,4,1,0.25,"25%",null,1,"","",0.25,""]
[89,")","89)",2,2,1,0.5,"50%",null,0,1,2,"",""]
[90,")","90)",1,10,3,0.3,"30%",null,0,3,10,"",""]
[91,")","91)",8,8,7,0.875,"87.5%",null,1,"","",0.875,""]
[92,")","92)",8,8,7,0.875,"87.5%",null,1,"","",0.875,""]
[93,")","93)",4,4,1,0.25,"25%",null,1,"","",0.25,""]
[94,")","94)",3,10,3,0.3,"30%",null,2,"","","","30%"]
[95,")","95)",6,4,3,0.75,"75%",null,2,"","","","75%"]
[96,")","96)",6,4,2,0.5,"50%",null,2,"","","","50%"]
[97,")","97)",5,5,3,0.6,"60%",null,1,"","",0.6,""]
[98,")","98)",6,4,3,0.75,"75%",null,1,"","",0.75,""]
[99,")","99)",10,10,4,0.4,"40%",null,0,4,10,"",""]
[100,")","100)",1,10,9,0.9,"90%",null,2,"","","","90%"]