{"text_format":"1","workbook":"xlsx","n_sheets":4,"sheets":["Values","Questions","Answers","Working"],"not_rendered":{"charts":0,"images":0,"macros":1,"external_links":0,"defined_names":1,"comments":0,"pivot_tables":0},"unopened":[],"bounds":{"document_bytes":16777216,"sheet_cells":100000,"rows_first":2000,"rows_last":500,"rows_between":2000,"halvings":0,"cell_chars":16384,"cell_head_chars":4096},"cells_cut":0,"cells_raw":0,"read":"whole","date_system":"1900"}

{"sheet":"Values","index":0,"n_rows":24,"n_cols":9,"rows_kept":24,"cut":false,"hidden":false,"merged":[[12,8,16,9],[14,2,17,7],[1,2,1,6],[3,2,4,7],[5,2,5,4],[7,2,8,7],[10,2,10,4],[12,2,12,6]]}
[null,null,null,null,"ADDITION FACTS"]
[null,null,"INSTRUCTIONS"]
[]
[null,"Step 1","Enter the lowest answer to be used for this sheet. (A whole number from 10 to 19)"]
[]
[null,null,"Lowest Answer"]
[]
[null,"Step 2","Enter the highest answer to be used for this sheet. (A whole number < 20 and  ≥ to the first number)"]
[]
[]
[null,null,"Highest Answer"]
[]
[null,"Step 3","Click on WorkSheet tab below.",null,null,null,null,null,"PRESS F9 for NEW WorkSheet"]
[]
[null,"Note","If you hold down shift then click on the WorkSheet tab and the Answers tab, you will be able to print both the WorkSheet and the solutions."]
[]
[]
[]
[]
[null,null,"NOTES"]
[null,null,"* Practise adding two numbers to give the answer from 10 to 20 in the range chosen."]
[null,null,"* The addends will usually be 1 digit numbers, always ≤ 10"]
[null,null,"* You can choose a single number or a range."]
[null,null,"* This WorkSheet will generate 50 questions at random."]

{"sheet":"Questions","index":1,"n_rows":37,"n_cols":18,"rows_kept":37,"cut":false,"hidden":false,"merged":[]}
[null,null,null,null,null,null,null,null,"ADDITION FACTS"]
[]
[null,null,null,null,null,null,null,null,null,null,null,null,null,"Worksheet ",null,null,null,{"$f":"INT(1000*RAND()+10)","v":577}]
[]
["1)",{"$f":"Working!F3","v":-7},"+",{"$f":"Working!D3","v":7},"=",null,"18)",{"$f":"Working!L3","v":-9},"+",{"$f":"Working!J3","v":9},"=",null,"35)",{"$f":"Working!R3","v":4},"+",{"$f":"Working!P3","v":-4},"="]
[]
["2)",{"$f":"Working!F5","v":1},"+",{"$f":"Working!D5","v":-1},"=",null,"19)",{"$f":"Working!L5","v":6},"+",{"$f":"Working!J5","v":-6},"=",null,"36)",{"$f":"Working!R5","v":2},"+",{"$f":"Working!P5","v":-2},"="]
[]
["3)",{"$f":"Working!F7","v":0},"+",{"$f":"Working!D7","v":0},"=",null,"20)",{"$f":"Working!L7","v":-2},"+",{"$f":"Working!J7","v":2},"=",null,"37)",{"$f":"Working!R7","v":-1},"+",{"$f":"Working!P7","v":1},"="]
[]
["4)",{"$f":"Working!F9","v":-4},"+",{"$f":"Working!D9","v":4},"=",null,"21)",{"$f":"Working!L9","v":-6},"+",{"$f":"Working!J9","v":6},"=",null,"38)",{"$f":"Working!R9","v":-2},"+",{"$f":"Working!P9","v":2},"="]
[]
["5)",{"$f":"Working!F11","v":6},"+",{"$f":"Working!D11","v":-6},"=",null,"22)",{"$f":"Working!L11","v":-3},"+",{"$f":"Working!J11","v":3},"=",null,"39)",{"$f":"Working!R11","v":-4},"+",{"$f":"Working!P11","v":4},"="]
[]
["6)",{"$f":"Working!F13","v":-7},"+",{"$f":"Working!D13","v":7},"=",null,"23)",{"$f":"Working!L13","v":-8},"+",{"$f":"Working!J13","v":8},"=",null,"40)",{"$f":"Working!R13","v":2},"+",{"$f":"Working!P13","v":-2},"="]
[]
["7)",{"$f":"Working!F15","v":2},"+",{"$f":"Working!D15","v":-2},"=",null,"24)",{"$f":"Working!L15","v":-5},"+",{"$f":"Working!J15","v":5},"=",null,"41)",{"$f":"Working!R15","v":-1},"+",{"$f":"Working!P15","v":1},"="]
[]
["8)",{"$f":"Working!F17","v":-6},"+",{"$f":"Working!D17","v":6},"=",null,"25)",{"$f":"Working!L17","v":0},"+",{"$f":"Working!J17","v":0},"=",null,"42)",{"$f":"Working!R17","v":-5},"+",{"$f":"Working!P17","v":5},"="]
[]
["9)",{"$f":"Working!F19","v":-3},"+",{"$f":"Working!D19","v":3},"=",null,"26)",{"$f":"Working!L19","v":2},"+",{"$f":"Working!J19","v":-2},"=",null,"43)",{"$f":"Working!R19","v":-1},"+",{"$f":"Working!P19","v":1},"="]
[]
["10)",{"$f":"Working!F21","v":-1},"+",{"$f":"Working!D21","v":1},"=",null,"27)",{"$f":"Working!L21","v":-3},"+",{"$f":"Working!J21","v":3},"=",null,"44)",{"$f":"Working!R21","v":3},"+",{"$f":"Working!P21","v":-3},"="]
[]
["11)",{"$f":"Working!F23","v":-5},"+",{"$f":"Working!D23","v":5},"=",null,"28)",{"$f":"Working!L23","v":-4},"+",{"$f":"Working!J23","v":4},"=",null,"45)",{"$f":"Working!R23","v":-5},"+",{"$f":"Working!P23","v":5},"="]
[]
["12)",{"$f":"Working!F25","v":9},"+",{"$f":"Working!D25","v":-9},"=",null,"29)",{"$f":"Working!L25","v":5},"+",{"$f":"Working!J25","v":-5},"=",null,"46)",{"$f":"Working!R25","v":2},"+",{"$f":"Working!P25","v":-2},"="]
[]
["13)",{"$f":"Working!F27","v":5},"+",{"$f":"Working!D27","v":-5},"=",null,"30)",{"$f":"Working!L27","v":-8},"+",{"$f":"Working!J27","v":8},"=",null,"47)",{"$f":"Working!R27","v":-3},"+",{"$f":"Working!P27","v":3},"="]
[]
["14)",{"$f":"Working!F29","v":4},"+",{"$f":"Working!D29","v":-4},"=",null,"31)",{"$f":"Working!L29","v":6},"+",{"$f":"Working!J29","v":-6},"=",null,"48)",{"$f":"Working!R29","v":-6},"+",{"$f":"Working!P29","v":6},"="]
[]
["15)",{"$f":"Working!F31","v":-4},"+",{"$f":"Working!D31","v":4},"=",null,"32)",{"$f":"Working!L31","v":-3},"+",{"$f":"Working!J31","v":3},"=",null,"49)",{"$f":"Working!R31","v":-6},"+",{"$f":"Working!P31","v":6},"="]
[]
["16)",{"$f":"Working!F33","v":-4},"+",{"$f":"Working!D33","v":4},"=",null,"33)",{"$f":"Working!L33","v":-2},"+",{"$f":"Working!J33","v":2},"=",null,"50)",{"$f":"Working!R33","v":-9},"+",{"$f":"Working!P33","v":9},"="]
[]
["17)",{"$f":"Working!F35","v":1},"+",{"$f":"Working!D35","v":-1},"=",null,"34)",{"$f":"Working!L35","v":-2},"+",{"$f":"Working!J35","v":2},"="]

{"sheet":"Answers","index":2,"n_rows":37,"n_cols":18,"rows_kept":37,"cut":false,"hidden":false,"merged":[]}
[null,null,null,null,null,null,null,null,"ADDITION FACTS"]
[]
[null,null,null,null,null,null,null,null,"ANSWERS",null,null,null,null,"Worksheet ",null,null,null,{"$f":"Questions!R3","v":577}]
[]
["1)",{"$f":"Questions!B5","v":-7},"+",{"$f":"Questions!D5","v":7},"=",{"$f":"B5+D5","v":0},"18)",{"$f":"Questions!H5","v":-9},"+",{"$f":"Questions!J5","v":9},"=",{"$f":"H5+J5","v":0},"35)",{"$f":"Questions!N5","v":4},"+",{"$f":"Questions!P5","v":-4},"=",{"$f":"N5+P5","v":0}]
[]
["2)",{"$f":"Questions!B7","v":1},"+",{"$f":"Questions!D7","v":-1},"=",{"$f":"B7+D7","v":0},"19)",{"$f":"Questions!H7","v":6},"+",{"$f":"Questions!J7","v":-6},"=",{"$f":"H7+J7","v":0},"36)",{"$f":"Questions!N7","v":2},"+",{"$f":"Questions!P7","v":-2},"=",{"$f":"N7+P7","v":0}]
[]
["3)",{"$f":"Questions!B9","v":0},"+",{"$f":"Questions!D9","v":0},"=",{"$f":"B9+D9","v":0},"20)",{"$f":"Questions!H9","v":-2},"+",{"$f":"Questions!J9","v":2},"=",{"$f":"H9+J9","v":0},"37)",{"$f":"Questions!N9","v":-1},"+",{"$f":"Questions!P9","v":1},"=",{"$f":"N9+P9","v":0}]
[]
["4)",{"$f":"Questions!B11","v":-4},"+",{"$f":"Questions!D11","v":4},"=",{"$f":"B11+D11","v":0},"21)",{"$f":"Questions!H11","v":-6},"+",{"$f":"Questions!J11","v":6},"=",{"$f":"H11+J11","v":0},"38)",{"$f":"Questions!N11","v":-2},"+",{"$f":"Questions!P11","v":2},"=",{"$f":"N11+P11","v":0}]
[]
["5)",{"$f":"Questions!B13","v":6},"+",{"$f":"Questions!D13","v":-6},"=",{"$f":"B13+D13","v":0},"22)",{"$f":"Questions!H13","v":-3},"+",{"$f":"Questions!J13","v":3},"=",{"$f":"H13+J13","v":0},"39)",{"$f":"Questions!N13","v":-4},"+",{"$f":"Questions!P13","v":4},"=",{"$f":"N13+P13","v":0}]
[]
["6)",{"$f":"Questions!B15","v":-7},"+",{"$f":"Questions!D15","v":7},"=",{"$f":"B15+D15","v":0},"23)",{"$f":"Questions!H15","v":-8},"+",{"$f":"Questions!J15","v":8},"=",{"$f":"H15+J15","v":0},"40)",{"$f":"Questions!N15","v":2},"+",{"$f":"Questions!P15","v":-2},"=",{"$f":"N15+P15","v":0}]
[]
["7)",{"$f":"Questions!B17","v":2},"+",{"$f":"Questions!D17","v":-2},"=",{"$f":"B17+D17","v":0},"24)",{"$f":"Questions!H17","v":-5},"+",{"$f":"Questions!J17","v":5},"=",{"$f":"H17+J17","v":0},"41)",{"$f":"Questions!N17","v":-1},"+",{"$f":"Questions!P17","v":1},"=",{"$f":"N17+P17","v":0}]
[]
["8)",{"$f":"Questions!B19","v":-6},"+",{"$f":"Questions!D19","v":6},"=",{"$f":"B19+D19","v":0},"25)",{"$f":"Questions!H19","v":0},"+",{"$f":"Questions!J19","v":0},"=",{"$f":"H19+J19","v":0},"42)",{"$f":"Questions!N19","v":-5},"+",{"$f":"Questions!P19","v":5},"=",{"$f":"N19+P19","v":0}]
[]
["9)",{"$f":"Questions!B21","v":-3},"+",{"$f":"Questions!D21","v":3},"=",{"$f":"B21+D21","v":0},"26)",{"$f":"Questions!H21","v":2},"+",{"$f":"Questions!J21","v":-2},"=",{"$f":"H21+J21","v":0},"43)",{"$f":"Questions!N21","v":-1},"+",{"$f":"Questions!P21","v":1},"=",{"$f":"N21+P21","v":0}]
[]
["10)",{"$f":"Questions!B23","v":-1},"+",{"$f":"Questions!D23","v":1},"=",{"$f":"B23+D23","v":0},"27)",{"$f":"Questions!H23","v":-3},"+",{"$f":"Questions!J23","v":3},"=",{"$f":"H23+J23","v":0},"44)",{"$f":"Questions!N23","v":3},"+",{"$f":"Questions!P23","v":-3},"=",{"$f":"N23+P23","v":0}]
[]
["11)",{"$f":"Questions!B25","v":-5},"+",{"$f":"Questions!D25","v":5},"=",{"$f":"B25+D25","v":0},"28)",{"$f":"Questions!H25","v":-4},"+",{"$f":"Questions!J25","v":4},"=",{"$f":"H25+J25","v":0},"45)",{"$f":"Questions!N25","v":-5},"+",{"$f":"Questions!P25","v":5},"=",{"$f":"N25+P25","v":0}]
[]
["12)",{"$f":"Questions!B27","v":9},"+",{"$f":"Questions!D27","v":-9},"=",{"$f":"B27+D27","v":0},"29)",{"$f":"Questions!H27","v":5},"+",{"$f":"Questions!J27","v":-5},"=",{"$f":"H27+J27","v":0},"46)",{"$f":"Questions!N27","v":2},"+",{"$f":"Questions!P27","v":-2},"=",{"$f":"N27+P27","v":0}]
[]
["13)",{"$f":"Questions!B29","v":5},"+",{"$f":"Questions!D29","v":-5},"=",{"$f":"B29+D29","v":0},"30)",{"$f":"Questions!H29","v":-8},"+",{"$f":"Questions!J29","v":8},"=",{"$f":"H29+J29","v":0},"47)",{"$f":"Questions!N29","v":-3},"+",{"$f":"Questions!P29","v":3},"=",{"$f":"N29+P29","v":0}]
[]
["14)",{"$f":"Questions!B31","v":4},"+",{"$f":"Questions!D31","v":-4},"=",{"$f":"B31+D31","v":0},"31)",{"$f":"Questions!H31","v":6},"+",{"$f":"Questions!J31","v":-6},"=",{"$f":"H31+J31","v":0},"48)",{"$f":"Questions!N31","v":-6},"+",{"$f":"Questions!P31","v":6},"=",{"$f":"N31+P31","v":0}]
[]
["15)",{"$f":"Questions!B33","v":-4},"+",{"$f":"Questions!D33","v":4},"=",{"$f":"B33+D33","v":0},"32)",{"$f":"Questions!H33","v":-3},"+",{"$f":"Questions!J33","v":3},"=",{"$f":"H33+J33","v":0},"49)",{"$f":"Questions!N33","v":-6},"+",{"$f":"Questions!P33","v":6},"=",{"$f":"N33+P33","v":0}]
[]
["16)",{"$f":"Questions!B35","v":-4},"+",{"$f":"Questions!D35","v":4},"=",{"$f":"B35+D35","v":0},"33)",{"$f":"Questions!H35","v":-2},"+",{"$f":"Questions!J35","v":2},"=",{"$f":"H35+J35","v":0},"50)",{"$f":"Questions!N35","v":-9},"+",{"$f":"Questions!P35","v":9},"=",{"$f":"N35+P35","v":0}]
[]
["17)",{"$f":"Questions!B37","v":1},"+",{"$f":"Questions!D37","v":-1},"=",{"$f":"B37+D37","v":0},"34)",{"$f":"Questions!H37","v":-2},"+",{"$f":"Questions!J37","v":2},"=",{"$f":"H37+J37","v":0}]

{"sheet":"Working","index":3,"n_rows":35,"n_cols":18,"rows_kept":35,"cut":false,"hidden":true,"merged":[]}
[null,null,null,null,null,null,null,null,"ADDITION FACTS"]
[]
["1)",{"$f":"INT((Values!$F$11-Values!$F$6+1)*RAND()+Values!$F$6)","v":0},"-",{"$f":"B3 -INT((18-B3+1)*RAND()+(B3-9))","v":7},"=",{"$f":"B3-D3","v":-7},"18)",{"$f":"INT((Values!$F$11-Values!$F$6+1)*RAND()+Values!$F$6)","v":0},"-",{"$f":"H3 -INT((18-H3+1)*RAND()+(H3-9))","v":9},"=",{"$f":"H3-J3","v":-9},"35)",{"$f":"INT((Values!$F$11-Values!$F$6+1)*RAND()+Values!$F$6)","v":0},"-",{"$f":"N3 -INT((18-N3+1)*RAND()+(N3-9))","v":-4},"=",{"$f":"N3-P3","v":4}]
[]
["2)",{"$f":"INT((Values!$F$11-Values!$F$6+1)*RAND()+Values!$F$6)","v":0},"-",{"$f":"B5 -INT((18-B5+1)*RAND()+(B5-9))","v":-1},"=",{"$f":"B5-D5","v":1},"19)",{"$f":"INT((Values!$F$11-Values!$F$6+1)*RAND()+Values!$F$6)","v":0},"-",{"$f":"H5 -INT((18-H5+1)*RAND()+(H5-9))","v":-6},"=",{"$f":"H5-J5","v":6},"36)",{"$f":"INT((Values!$F$11-Values!$F$6+1)*RAND()+Values!$F$6)","v":0},"-",{"$f":"N5 -INT((18-N5+1)*RAND()+(N5-9))","v":-2},"=",{"$f":"N5-P5","v":2}]
[]
["3)",{"$f":"INT((Values!$F$11-Values!$F$6+1)*RAND()+Values!$F$6)","v":0},"-",{"$f":"B7 -INT((18-B7+1)*RAND()+(B7-9))","v":0},"=",{"$f":"B7-D7","v":0},"20)",{"$f":"INT((Values!$F$11-Values!$F$6+1)*RAND()+Values!$F$6)","v":0},"-",{"$f":"H7 -INT((18-H7+1)*RAND()+(H7-9))","v":2},"=",{"$f":"H7-J7","v":-2},"37)",{"$f":"INT((Values!$F$11-Values!$F$6+1)*RAND()+Values!$F$6)","v":0},"-",{"$f":"N7 -INT((18-N7+1)*RAND()+(N7-9))","v":1},"=",{"$f":"N7-P7","v":-1}]
[]
["4)",{"$f":"INT((Values!$F$11-Values!$F$6+1)*RAND()+Values!$F$6)","v":0},"-",{"$f":"B9 -INT((18-B9+1)*RAND()+(B9-9))","v":4},"=",{"$f":"B9-D9","v":-4},"21)",{"$f":"INT((Values!$F$11-Values!$F$6+1)*RAND()+Values!$F$6)","v":0},"-",{"$f":"H9 -INT((18-H9+1)*RAND()+(H9-9))","v":6},"=",{"$f":"H9-J9","v":-6},"38)",{"$f":"INT((Values!$F$11-Values!$F$6+1)*RAND()+Values!$F$6)","v":0},"-",{"$f":"N9 -INT((18-N9+1)*RAND()+(N9-9))","v":2},"=",{"$f":"N9-P9","v":-2}]
[]
["5)",{"$f":"INT((Values!$F$11-Values!$F$6+1)*RAND()+Values!$F$6)","v":0},"-",{"$f":"B11 -INT((18-B11+1)*RAND()+(B11-9))","v":-6},"=",{"$f":"B11-D11","v":6},"22)",{"$f":"INT((Values!$F$11-Values!$F$6+1)*RAND()+Values!$F$6)","v":0},"-",{"$f":"H11 -INT((18-H11+1)*RAND()+(H11-9))","v":3},"=",{"$f":"H11-J11","v":-3},"39)",{"$f":"INT((Values!$F$11-Values!$F$6+1)*RAND()+Values!$F$6)","v":0},"-",{"$f":"N11 -INT((18-N11+1)*RAND()+(N11-9))","v":4},"=",{"$f":"N11-P11","v":-4}]
[]
["6)",{"$f":"INT((Values!$F$11-Values!$F$6+1)*RAND()+Values!$F$6)","v":0},"-",{"$f":"B13 -INT((18-B13+1)*RAND()+(B13-9))","v":7},"=",{"$f":"B13-D13","v":-7},"23)",{"$f":"INT((Values!$F$11-Values!$F$6+1)*RAND()+Values!$F$6)","v":0},"-",{"$f":"H13 -INT((18-H13+1)*RAND()+(H13-9))","v":8},"=",{"$f":"H13-J13","v":-8},"40)",{"$f":"INT((Values!$F$11-Values!$F$6+1)*RAND()+Values!$F$6)","v":0},"-",{"$f":"N13 -INT((18-N13+1)*RAND()+(N13-9))","v":-2},"=",{"$f":"N13-P13","v":2}]
[]
["7)",{"$f":"INT((Values!$F$11-Values!$F$6+1)*RAND()+Values!$F$6)","v":0},"-",{"$f":"B15 -INT((18-B15+1)*RAND()+(B15-9))","v":-2},"=",{"$f":"B15-D15","v":2},"24)",{"$f":"INT((Values!$F$11-Values!$F$6+1)*RAND()+Values!$F$6)","v":0},"-",{"$f":"H15 -INT((18-H15+1)*RAND()+(H15-9))","v":5},"=",{"$f":"H15-J15","v":-5},"41)",{"$f":"INT((Values!$F$11-Values!$F$6+1)*RAND()+Values!$F$6)","v":0},"-",{"$f":"N15 -INT((18-N15+1)*RAND()+(N15-9))","v":1},"=",{"$f":"N15-P15","v":-1}]
[]
["8)",{"$f":"INT((Values!$F$11-Values!$F$6+1)*RAND()+Values!$F$6)","v":0},"-",{"$f":"B17 -INT((18-B17+1)*RAND()+(B17-9))","v":6},"=",{"$f":"B17-D17","v":-6},"25)",{"$f":"INT((Values!$F$11-Values!$F$6+1)*RAND()+Values!$F$6)","v":0},"-",{"$f":"H17 -INT((18-H17+1)*RAND()+(H17-9))","v":0},"=",{"$f":"H17-J17","v":0},"42)",{"$f":"INT((Values!$F$11-Values!$F$6+1)*RAND()+Values!$F$6)","v":0},"-",{"$f":"N17 -INT((18-N17+1)*RAND()+(N17-9))","v":5},"=",{"$f":"N17-P17","v":-5}]
[]
["9)",{"$f":"INT((Values!$F$11-Values!$F$6+1)*RAND()+Values!$F$6)","v":0},"-",{"$f":"B19 -INT((18-B19+1)*RAND()+(B19-9))","v":3},"=",{"$f":"B19-D19","v":-3},"26)",{"$f":"INT((Values!$F$11-Values!$F$6+1)*RAND()+Values!$F$6)","v":0},"-",{"$f":"H19 -INT((18-H19+1)*RAND()+(H19-9))","v":-2},"=",{"$f":"H19-J19","v":2},"43)",{"$f":"INT((Values!$F$11-Values!$F$6+1)*RAND()+Values!$F$6)","v":0},"-",{"$f":"N19 -INT((18-N19+1)*RAND()+(N19-9))","v":1},"=",{"$f":"N19-P19","v":-1}]
[]
["10)",{"$f":"INT((Values!$F$11-Values!$F$6+1)*RAND()+Values!$F$6)","v":0},"-",{"$f":"B21 -INT((18-B21+1)*RAND()+(B21-9))","v":1},"=",{"$f":"B21-D21","v":-1},"27)",{"$f":"INT((Values!$F$11-Values!$F$6+1)*RAND()+Values!$F$6)","v":0},"-",{"$f":"H21 -INT((18-H21+1)*RAND()+(H21-9))","v":3},"=",{"$f":"H21-J21","v":-3},"44)",{"$f":"INT((Values!$F$11-Values!$F$6+1)*RAND()+Values!$F$6)","v":0},"-",{"$f":"N21 -INT((18-N21+1)*RAND()+(N21-9))","v":-3},"=",{"$f":"N21-P21","v":3}]
[]
["11)",{"$f":"INT((Values!$F$11-Values!$F$6+1)*RAND()+Values!$F$6)","v":0},"-",{"$f":"B23 -INT((18-B23+1)*RAND()+(B23-9))","v":5},"=",{"$f":"B23-D23","v":-5},"28)",{"$f":"INT((Values!$F$11-Values!$F$6+1)*RAND()+Values!$F$6)","v":0},"-",{"$f":"H23 -INT((18-H23+1)*RAND()+(H23-9))","v":4},"=",{"$f":"H23-J23","v":-4},"45)",{"$f":"INT((Values!$F$11-Values!$F$6+1)*RAND()+Values!$F$6)","v":0},"-",{"$f":"N23 -INT((18-N23+1)*RAND()+(N23-9))","v":5},"=",{"$f":"N23-P23","v":-5}]
[]
["12)",{"$f":"INT((Values!$F$11-Values!$F$6+1)*RAND()+Values!$F$6)","v":0},"-",{"$f":"B25 -INT((18-B25+1)*RAND()+(B25-9))","v":-9},"=",{"$f":"B25-D25","v":9},"29)",{"$f":"INT((Values!$F$11-Values!$F$6+1)*RAND()+Values!$F$6)","v":0},"-",{"$f":"H25 -INT((18-H25+1)*RAND()+(H25-9))","v":-5},"=",{"$f":"H25-J25","v":5},"46)",{"$f":"INT((Values!$F$11-Values!$F$6+1)*RAND()+Values!$F$6)","v":0},"-",{"$f":"N25 -INT((18-N25+1)*RAND()+(N25-9))","v":-2},"=",{"$f":"N25-P25","v":2}]
[]
["13)",{"$f":"INT((Values!$F$11-Values!$F$6+1)*RAND()+Values!$F$6)","v":0},"-",{"$f":"B27 -INT((18-B27+1)*RAND()+(B27-9))","v":-5},"=",{"$f":"B27-D27","v":5},"30)",{"$f":"INT((Values!$F$11-Values!$F$6+1)*RAND()+Values!$F$6)","v":0},"-",{"$f":"H27 -INT((18-H27+1)*RAND()+(H27-9))","v":8},"=",{"$f":"H27-J27","v":-8},"47)",{"$f":"INT((Values!$F$11-Values!$F$6+1)*RAND()+Values!$F$6)","v":0},"-",{"$f":"N27 -INT((18-N27+1)*RAND()+(N27-9))","v":3},"=",{"$f":"N27-P27","v":-3}]
[]
["14)",{"$f":"INT((Values!$F$11-Values!$F$6+1)*RAND()+Values!$F$6)","v":0},"-",{"$f":"B29 -INT((18-B29+1)*RAND()+(B29-9))","v":-4},"=",{"$f":"B29-D29","v":4},"31)",{"$f":"INT((Values!$F$11-Values!$F$6+1)*RAND()+Values!$F$6)","v":0},"-",{"$f":"H29 -INT((18-H29+1)*RAND()+(H29-9))","v":-6},"=",{"$f":"H29-J29","v":6},"48)",{"$f":"INT((Values!$F$11-Values!$F$6+1)*RAND()+Values!$F$6)","v":0},"-",{"$f":"N29 -INT((18-N29+1)*RAND()+(N29-9))","v":6},"=",{"$f":"N29-P29","v":-6}]
[]
["15)",{"$f":"INT((Values!$F$11-Values!$F$6+1)*RAND()+Values!$F$6)","v":0},"-",{"$f":"B31 -INT((18-B31+1)*RAND()+(B31-9))","v":4},"=",{"$f":"B31-D31","v":-4},"32)",{"$f":"INT((Values!$F$11-Values!$F$6+1)*RAND()+Values!$F$6)","v":0},"-",{"$f":"H31 -INT((18-H31+1)*RAND()+(H31-9))","v":3},"=",{"$f":"H31-J31","v":-3},"49)",{"$f":"INT((Values!$F$11-Values!$F$6+1)*RAND()+Values!$F$6)","v":0},"-",{"$f":"N31 -INT((18-N31+1)*RAND()+(N31-9))","v":6},"=",{"$f":"N31-P31","v":-6}]
[]
["16)",{"$f":"INT((Values!$F$11-Values!$F$6+1)*RAND()+Values!$F$6)","v":0},"-",{"$f":"B33 -INT((18-B33+1)*RAND()+(B33-9))","v":4},"=",{"$f":"B33-D33","v":-4},"33)",{"$f":"INT((Values!$F$11-Values!$F$6+1)*RAND()+Values!$F$6)","v":0},"-",{"$f":"H33 -INT((18-H33+1)*RAND()+(H33-9))","v":2},"=",{"$f":"H33-J33","v":-2},"50)",{"$f":"INT((Values!$F$11-Values!$F$6+1)*RAND()+Values!$F$6)","v":0},"-",{"$f":"N33 -INT((18-N33+1)*RAND()+(N33-9))","v":9},"=",{"$f":"N33-P33","v":-9}]
[]
["17)",{"$f":"INT((Values!$F$11-Values!$F$6+1)*RAND()+Values!$F$6)","v":0},"-",{"$f":"B35 -INT((18-B35+1)*RAND()+(B35-9))","v":-1},"=",{"$f":"B35-D35","v":1},"34)",{"$f":"INT((Values!$F$11-Values!$F$6+1)*RAND()+Values!$F$6)","v":0},"-",{"$f":"H35 -INT((18-H35+1)*RAND()+(H35-9))","v":2},"=",{"$f":"H35-J35","v":-2}]